BEGIN:VCALENDAR
VERSION:2.0
PRODID:-//https://tins.org.br/1tins///NONSGML kigkonsult.se iCalcreator 2.10.15//
METHOD:PUBLISH
BEGIN:VEVENT
UID:20260421T110751-03-4861V2kuaI@https://tins.org.br/1tins/
DTSTAMP:20260421T140751Z
DESCRIPTION: https://tins.org.br/1tins/index.php/es/destacados/fechas-impor
 tantes/event/23-periodo-de-submissao-dos-trabalhos-completos
DTSTART:20230213T120000Z
DTEND:20230514T120000Z
LOCATION:Transmissão On-line ()
SUMMARY:Período de submissão dos trabalhos completos
URL:https://tins.org.br/1tins/index.php/es/destacados/fechas-importantes/ev
 ent/23-periodo-de-submissao-dos-trabalhos-completos
END:VEVENT
END:VCALENDAR
